BEGIN:VCALENDAR
VERSION:2.0
PRODID:-//Squarespace Inc/Squarespace 6//v6//EN
BEGIN:VEVENT
UID:5c7c2ca9e2c4834c1a354267@squarespace.com
DTSTAMP:20190329T181002Z
DTSTART:20190331T173000Z
DTEND:20190331T183000Z
SUMMARY:Leaky Gut:  What's the Buzz?
GEO:42.325739;-88.985335
LOCATION:Choices Natural Market\, 6718 Broadcast Parkway\, Loves Park\, IL\
 , 61111\, United States
END:VEVENT
END:VCALENDAR
