BEGIN:VCALENDAR
VERSION:2.0
PRODID:-//Squarespace Inc/Squarespace 6//v6//EN
BEGIN:VEVENT
UID:5ca0ad0ea4222f906533f019@squarespace.com
DTSTAMP:20190331T144654Z
DTSTART:20190415T220000Z
DTEND:20190415T230000Z
SUMMARY:Polarity Balancing Tea Workshop
GEO:42.326283;-88.985712
LOCATION:Choices Natural Market\, 6718 Broadcast Parkway\, Loves Park\, IL\
 , 61111\, United States
END:VEVENT
END:VCALENDAR
