BEGIN:VCALENDAR
VERSION:2.0
PRODID:-//Squarespace Inc/Squarespace 6//v6//EN
BEGIN:VEVENT
UID:5ca0d2ff1905f4c611b34291@squarespace.com
DTSTAMP:20190331T151132Z
DTSTART:20190421T140000Z
DTEND:20190421T220000Z
SUMMARY:Easter Sunday:  Choices is closed for the holiday.
END:VEVENT
END:VCALENDAR
