BEGIN:VCALENDAR
VERSION:2.0
PRODID:-//Squarespace Inc/Squarespace 6//v6//EN
BEGIN:VEVENT
UID:5ca0d8bae2c483a7954bc7d4@squarespace.com
DTSTAMP:20190415T174756Z
DTSTART:20190425T220000Z
DTEND:20190425T230000Z
SUMMARY:Garden of Life Class:  Probiotics
GEO:42.325739;-88.985335
LOCATION:Choices Natural Market\, 6718 Broadcast Parkway\, Loves Park\, IL\
 , 61111\, United States
END:VEVENT
END:VCALENDAR
