BEGIN:VCALENDAR
VERSION:2.0
PRODID:-//Squarespace Inc/Squarespace 6//v6//EN
BEGIN:VEVENT
UID:5c6052f024a6947f23f342f0@squarespace.com
DTSTAMP:20190411T210425Z
DTSTART:20190519T173000Z
DTEND:20190519T183000Z
SUMMARY:Vegetarianism:  A Beginner's Guide
GEO:42.326283;-88.985712
LOCATION:Choices Natural Market\, 6718 Broadcast Parkway\, Loves Park\, IL\
 , 61111\, United States
END:VEVENT
END:VCALENDAR
