BEGIN:VCALENDAR
VERSION:2.0
PRODID:-//Squarespace Inc/Squarespace 6//v6//EN
BEGIN:VEVENT
UID:5cf14f0b599f1200011a7742@squarespace.com
DTSTAMP:20190531T164917Z
DTSTART:20190611T220000Z
DTEND:20190611T230000Z
SUMMARY:Charlotte's Web Hemp Oil Informational Presentation
GEO:42.326283;-88.985712
LOCATION:Choices Natural Market\, 6718 Broadcast Parkway\, Loves Park\, IL\
 , 61111\, United States
END:VEVENT
END:VCALENDAR
