BEGIN:VCALENDAR
VERSION:2.0
PRODID:-//Squarespace Inc/Squarespace 6//v6//EN
BEGIN:VEVENT
UID:5c9faed84785d33d1ae05569@squarespace.com
DTSTAMP:20190330T180459Z
DTSTART:20190406T130000Z
DTEND:20190407T000000Z
SUMMARY:April Sample Saturday
END:VEVENT
END:VCALENDAR
