BEGIN:VCALENDAR
VERSION:2.0
PRODID:-//Squarespace Inc/Squarespace 6//v6//EN
BEGIN:VEVENT
UID:5ca0f3bda4222f9065361055@squarespace.com
DTSTAMP:20190331T200434Z
DTSTART:20190406T130000Z
DTEND:20190414T000000Z
SUMMARY:Body Care Sale:  Love the Skin You're In
GEO:42.325739;-88.985335
LOCATION:Choices Natural Market\, 6718 Broadcast Parkway\, Loves Park\, IL\
 , 61111\, United States
END:VEVENT
END:VCALENDAR
