BEGIN:VCALENDAR
VERSION:2.0
PRODID:-//Squarespace Inc/Squarespace 6//v6//EN
BEGIN:VEVENT
UID:5cb4d9611905f47fc3d007fc@squarespace.com
DTSTAMP:20190506T234728Z
DTSTART:20190517T213000Z
DTEND:20190517T230000Z
SUMMARY:Foodie Friday
GEO:42.325739;-88.985335
LOCATION:Choices Natural Market\, 6718 Broadcast Parkway\, Loves Park\, IL\
 , 61111\, United States
END:VEVENT
END:VCALENDAR
