BEGIN:VCALENDAR
VERSION:2.0
PRODID:-//Squarespace Inc/Squarespace 6//v6//EN
BEGIN:VEVENT
UID:5cd0aa8b971a187ec0002e1f@squarespace.com
DTSTAMP:20190506T223546Z
DTSTART:20190517T160000Z
DTEND:20190517T190000Z
SUMMARY:Garden of Life Demo:  CBD
GEO:42.326283;-88.985712
LOCATION:Choices Natural Market\, 6718 Broadcast Parkway\, Loves Park\, IL\
 , 61111\, United States
END:VEVENT
END:VCALENDAR
