BEGIN:VCALENDAR
VERSION:2.0
PRODID:-//Squarespace Inc/Squarespace 6//v6//EN
BEGIN:VEVENT
UID:5cf14cb07b9d81000141eb44@squarespace.com
DTSTAMP:20190531T163325Z
DTSTART:20190605T163000Z
DTEND:20190605T171500Z
SUMMARY:Tips and Tricks for a Healthier You
GEO:42.326283;-88.985712
LOCATION:Choices Natural Market\, 6718 Broadcast Parkway\, Loves Park\, IL\
 , 61111\, United States
END:VEVENT
END:VCALENDAR
