BEGIN:VCALENDAR
VERSION:2.0
PRODID:-//Squarespace Inc/Squarespace 6//v6//EN
BEGIN:VEVENT
UID:5cb4e2f2495e7600016aca72@squarespace.com
DTSTAMP:20190531T154800Z
DTSTART:20190521T223000Z
DTEND:20190521T231500Z
SUMMARY:Tips and Tricks for a Healthier You
GEO:42.326283;-88.985712
LOCATION:Choices Natural Market\, 6718 Broadcast Parkway\, Loves Park\, IL\
 , 61111\, United States
END:VEVENT
END:VCALENDAR
