BEGIN:VCALENDAR
VERSION:2.0
PRODID:-//Squarespace Inc/Squarespace 6//v6//EN
BEGIN:VEVENT
UID:5cb4e611b208fcd2f32d5746@squarespace.com
DTSTAMP:20190506T235557Z
DTSTART:20190523T180000Z
DTEND:20190523T210000Z
SUMMARY:Free Diabetes Screening
GEO:42.325739;-88.985335
LOCATION:Choices Natural Market\, 6718 Broadcast Parkway\, Loves Park\, IL\
 , 61111\, United States
END:VEVENT
END:VCALENDAR
