BEGIN:VCALENDAR
VERSION:2.0
PRODID:-//Squarespace Inc/Squarespace 6//v6//EN
BEGIN:VEVENT
UID:5cb4e57bf4e1fcf6be0587ad@squarespace.com
DTSTAMP:20190424T023605Z
DTSTART:20190527T130000Z
DTEND:20190527T190000Z
SUMMARY:Memorial Day--Choices is open 9 am - 3 pm
END:VEVENT
END:VCALENDAR
