BEGIN:VCALENDAR
VERSION:2.0
PRODID:-//Squarespace Inc/Squarespace 6//v6//EN
BEGIN:VEVENT
UID:5cf13bfcff78a70001414157@squarespace.com
DTSTAMP:20190531T153122Z
DTSTART:20190601T130000Z
DTEND:20190602T000000Z
SUMMARY:June Sample Saturday
GEO:42.326283;-88.985712
LOCATION:Choices Natural Market\, 6718 Broadcast Parkway\, Loves Park\, IL\
 , 61111\, United States
END:VEVENT
END:VCALENDAR
