BEGIN:VCALENDAR
VERSION:2.0
PRODID:-//Squarespace Inc/Squarespace 6//v6//EN
BEGIN:VEVENT
UID:5cb4c88f104c7b502dba9d44@squarespace.com
DTSTAMP:20190415T181836Z
DTSTART:20190504T130000Z
DTEND:20190505T000000Z
SUMMARY:May Sample Saturday
GEO:42.326283;-88.985712
LOCATION:Choices Natural Market\, 6718 Broadcast Parkway\, Loves Park\, IL\
 , 61111\, United States
END:VEVENT
END:VCALENDAR
