BEGIN:VCALENDAR
VERSION:2.0
PRODID:-//Squarespace Inc/Squarespace 6//v6//EN
BEGIN:VEVENT
UID:5cb4d8a01905f47fc3cffec3@squarespace.com
DTSTAMP:20190424T040555Z
DTSTART:20190504T140000Z
DTEND:20190504T170000Z
SUMMARY:Plant Fusion Demo
GEO:42.325739;-88.985335
LOCATION:Choices Natural Market\, 6718 Broadcast Parkway\, Loves Park\, IL\
 , 61111\, United States
END:VEVENT
END:VCALENDAR
