BEGIN:VCALENDAR
VERSION:2.0
PRODID:-//Squarespace Inc/Squarespace 6//v6//EN
BEGIN:VEVENT
UID:5cf15ee6749114000136af70@squarespace.com
DTSTAMP:20190531T171708Z
DTSTART:20190613T213000Z
DTEND:20190613T223000Z
SUMMARY:Bone &amp\; Joint Health and Mobility\,  A Jarrow Presentation
GEO:42.326283;-88.985712
LOCATION:Choices Natural Market\, 6718 Broadcast Parkway\, Loves Park\, IL\
 , 61111\, United States
END:VEVENT
END:VCALENDAR
