BEGIN:VCALENDAR
VERSION:2.0
PRODID:-//Squarespace Inc/Squarespace 6//v6//EN
BEGIN:VEVENT
UID:5cfff0eb18a7650001a9197f@squarespace.com
DTSTAMP:20190611T215300Z
DTSTART:20190615T130000Z
DTEND:20190616T000000Z
SUMMARY:Choices BIG Anniversary Sale--20% of!
GEO:42.326283;-88.985712
LOCATION:Choices Natural Market\, 6718 Broadcast Parkway\, Loves Park\, IL\
 , 61111\, United States
END:VEVENT
END:VCALENDAR
