BEGIN:VCALENDAR
VERSION:2.0
PRODID:-//Squarespace Inc/Squarespace 6//v6//EN
BEGIN:VEVENT
UID:5d176700a6f91300018796b4@squarespace.com
DTSTAMP:20190629T141710Z
DTSTART:20190730T170000Z
DTEND:20190730T180000Z
SUMMARY:How Acupressure and Acupuncture Can Help Relieve Stress &amp\; Help 
 with Focus
GEO:42.326283;-88.985712
LOCATION:Choices Natural Market\, 6718 Broadcast Parkway\, Loves Park\, IL\
 , 61111\, United States
END:VEVENT
END:VCALENDAR
