BEGIN:VCALENDAR
VERSION:2.0
PRODID:-//Squarespace Inc/Squarespace 6//v6//EN
BEGIN:VEVENT
UID:5cf13dd8bc0e540001c56b4a@squarespace.com
DTSTAMP:20190531T163512Z
DTSTART:20190606T220000Z
DTEND:20190606T230000Z
SUMMARY:Could Your Coffee Help Change the World?  An Equal Exchange Discuss
 ion on Free Trade and Environmental Sustainability
GEO:42.326283;-88.985712
LOCATION:Choices Natural Market\, 6718 Broadcast Parkway\, Loves Park\, IL\
 , 61111\, United States
END:VEVENT
END:VCALENDAR
