BEGIN:VCALENDAR
VERSION:2.0
PRODID:-//Squarespace Inc/Squarespace 6//v6//EN
BEGIN:VEVENT
UID:5d1777e74c237600010116df@squarespace.com
DTSTAMP:20190629T144509Z
DTSTART:20190704T130000Z
DTEND:20190705T000000Z
SUMMARY:Fourth of July:  Choices will be Closed.
END:VEVENT
END:VCALENDAR
