BEGIN:VCALENDAR
VERSION:2.0
PRODID:-//Squarespace Inc/Squarespace 6//v6//EN
BEGIN:VEVENT
UID:5d1779844c23760001012a22@squarespace.com
DTSTAMP:20190629T151032Z
DTSTART:20190706T130000Z
DTEND:20190707T000000Z
SUMMARY:July Sample Saturday!
GEO:42.326283;-88.985712
LOCATION:Choices Natural Market\, 6718 Broadcast Parkway\, Loves Park\, IL\
 , 61111\, United States
END:VEVENT
END:VCALENDAR
