BEGIN:VCALENDAR
VERSION:2.0
PRODID:-//Squarespace Inc/Squarespace 6//v6//EN
BEGIN:VEVENT
UID:5d4310459b80890001cc50b6@squarespace.com
DTSTAMP:20190801T163428Z
DTSTART:20190814T213000Z
DTEND:20190814T223000Z
SUMMARY:Leaky Gut:  What Is It and How Can Diet Help
GEO:42.326283;-88.985712
LOCATION:Choices Natural Market\, 6718 Broadcast Parkway\, Loves Park\, IL\
 , 61111\, United States
END:VEVENT
END:VCALENDAR
