BEGIN:VCALENDAR
VERSION:2.0
PRODID:-//Squarespace Inc/Squarespace 6//v6//EN
BEGIN:VEVENT
UID:5d433c64279dce0001ed2708@squarespace.com
DTSTAMP:20190807T200352Z
DTSTART:20190815T130000Z
DTEND:20190816T000000Z
SUMMARY:815 Day!
END:VEVENT
END:VCALENDAR
