BEGIN:VCALENDAR
VERSION:2.0
PRODID:-//Squarespace Inc/Squarespace 6//v6//EN
BEGIN:VEVENT
UID:5d4322cb9c1dd80001d3ea45@squarespace.com
DTSTAMP:20190807T201314Z
DTSTART:20190821T170000Z
DTEND:20190821T180000Z
SUMMARY: Sustainable Story Time--Tractor Mac:  Farmers' Market
GEO:42.326283;-88.985712
LOCATION:Choices Natural Market\, 6718 Broadcast Parkway\, Loves Park\, IL\
 , 61111\, United States
END:VEVENT
END:VCALENDAR
