BEGIN:VCALENDAR
VERSION:2.0
PRODID:-//Squarespace Inc/Squarespace 6//v6//EN
BEGIN:VEVENT
UID:5d6454acbbec9000016e6ac3@squarespace.com
DTSTAMP:20190829T195238Z
DTSTART:20190921T150000Z
DTEND:20190921T170000Z
SUMMARY:Local Honey!  Meet the Beekeeper:  Phil Raines of Raines Honey
GEO:42.326283;-88.985712
LOCATION:Choices Natural Market\, 6718 Broadcast Parkway\, Loves Park\, IL\
 , 61111\, United States
END:VEVENT
END:VCALENDAR
