BEGIN:VCALENDAR
VERSION:2.0
PRODID:-//Squarespace Inc/Squarespace 6//v6//EN
BEGIN:VEVENT
UID:5d67d991afb66600012f7a32@squarespace.com
DTSTAMP:20190830T214749Z
DTSTART:20190902T130000Z
DTEND:20190903T000000Z
SUMMARY:Labor Day - Choices is Closed
END:VEVENT
END:VCALENDAR
