BEGIN:VCALENDAR
VERSION:2.0
PRODID:-//Squarespace Inc/Squarespace 6//v6//EN
BEGIN:VEVENT
UID:5d43174a8b284f00011d05e9@squarespace.com
DTSTAMP:20190801T192343Z
DTSTART:20190809T160000Z
DTEND:20190809T190000Z
SUMMARY:Garden of Life Drop In and Learn:  Gummies
GEO:42.326283;-88.985712
LOCATION:Choices Natural Market\, 6718 Broadcast Parkway\, Loves Park\, IL\
 , 61111\, United States
END:VEVENT
END:VCALENDAR
