BEGIN:VCALENDAR
VERSION:2.0
PRODID:-//Squarespace Inc/Squarespace 6//v6//EN
BEGIN:VEVENT
UID:5d643e5f851aaf0001cd7352@squarespace.com
DTSTAMP:20190829T131643Z
DTSTART:20190911T220000Z
DTEND:20190911T230000Z
SUMMARY:A Glass of Wine\, A Hearty Bowl of Soup\, and a Chat with the Owner
GEO:42.326283;-88.985712
LOCATION:Choices Natural Market\, 6718 Broadcast Parkway\, Loves Park\, IL\
 , 61111\, United States
END:VEVENT
END:VCALENDAR
