BEGIN:VCALENDAR
VERSION:2.0
PRODID:-//Squarespace Inc/Squarespace 6//v6//EN
BEGIN:VEVENT
UID:5d67d60d2c2b55000172d4ac@squarespace.com
DTSTAMP:20190830T213816Z
DTSTART:20190925T213000Z
DTEND:20190925T223000Z
SUMMARY:Busting High Blood Sugar
GEO:42.326283;-88.985712
LOCATION:Choices Natural Market\, 6718 Broadcast Parkway\, Loves Park\, IL\
 , 61111\, United States
END:VEVENT
END:VCALENDAR
