BEGIN:VCALENDAR
VERSION:2.0
PRODID:-//Squarespace Inc/Squarespace 6//v6//EN
BEGIN:VEVENT
UID:5d9248ee7eb9655781bc2272@squarespace.com
DTSTAMP:20191012T163318Z
DTSTART:20191023T223000Z
DTEND:20191023T233000Z
SUMMARY:GMO OMG Documentary Film Screening
GEO:42.326283;-88.985712
LOCATION:Choices Natural Market\, 6718 Broadcast Parkway\, Loves Park\, IL\
 , 61111\, United States
END:VEVENT
END:VCALENDAR
