BEGIN:VCALENDAR
VERSION:2.0
PRODID:-//Squarespace Inc/Squarespace 6//v6//EN
BEGIN:VEVENT
UID:5e0feb99c3a0001121302e72@squarespace.com
DTSTAMP:20200104T014223Z
DTSTART:20200118T160000Z
DTEND:20200118T190000Z
SUMMARY:CV Sciences PlusCBD:  Drop In and Learn
GEO:42.326283;-88.985712
LOCATION:Choices Natural Market\, 6718 Broadcast Parkway\, Loves Park\, IL\
 , 61111\, United States
END:VEVENT
END:VCALENDAR
