BEGIN:VCALENDAR
VERSION:2.0
PRODID:-//Squarespace Inc/Squarespace 6//v6//EN
BEGIN:VEVENT
UID:5e0feda395a27273eb50b12a@squarespace.com
DTSTAMP:20200104T015332Z
DTSTART:20200129T223000Z
DTEND:20200129T233000Z
SUMMARY:Cold &amp\; Flu Season Immune Support 
GEO:42.326283;-88.985712
LOCATION:Choices Natural Market\, 6718 Broadcast Parkway\, Loves Park\, IL\
 , 61111\, United States
END:VEVENT
END:VCALENDAR
