BEGIN:VCALENDAR
VERSION:2.0
PRODID:-//Squarespace Inc/Squarespace 6//v6//EN
BEGIN:VEVENT
UID:5e0f63d114533b3244187b1a@squarespace.com
DTSTAMP:20200103T160609Z
DTSTART:20200104T140000Z
DTEND:20200105T010000Z
SUMMARY:Sample Saturday--The First of the Decade!
GEO:42.326283;-88.985712
LOCATION:Choices Natural Market\, 6718 Broadcast Parkway\, Loves Park\, IL\
 , 61111\, United States
END:VEVENT
END:VCALENDAR
