BEGIN:VCALENDAR
VERSION:2.0
PRODID:-//Squarespace Inc/Squarespace 6//v6//EN
BEGIN:VEVENT
UID:5e0fe56ea2cf815a65431cf6@squarespace.com
DTSTAMP:20200104T020434Z
DTSTART:20200109T223000Z
DTEND:20200109T233000Z
SUMMARY:New Year\, New You--Did You Promise Yourself to Eat Healthy This Ye
 ar?  
GEO:42.326283;-88.985712
LOCATION:Choices Natural Market\, 6718 Broadcast Parkway\, Loves Park\, IL\
 , 61111\, United States
END:VEVENT
END:VCALENDAR
