BEGIN:VCALENDAR
VERSION:2.0
PRODID:-//Squarespace Inc/Squarespace 6//v6//EN
BEGIN:VEVENT
UID:5e3588f29d383458f7ca1704@squarespace.com
DTSTAMP:20200201T142811Z
DTSTART:20200201T143000Z
DTEND:20200201T153000Z
SUMMARY:Sample Saturday!
GEO:42.326283;-88.985712
LOCATION:Choices Natural Market\, 6718 Broadcast Parkway\, Loves Park\, IL\
 , 61111\, United States
END:VEVENT
END:VCALENDAR
