BEGIN:VCALENDAR
VERSION:2.0
PRODID:-//Squarespace Inc/Squarespace 6//v6//EN
BEGIN:VEVENT
UID:5e358b2ae0e43424440a8195@squarespace.com
DTSTAMP:20200201T145059Z
DTSTART:20200213T190000Z
DTEND:20200213T220000Z
SUMMARY:Free Heart Health Check
GEO:42.326283;-88.985712
LOCATION:Choices Natural Market\, 6718 Broadcast Parkway\, Loves Park\, IL\
 , 61111\, United States
END:VEVENT
END:VCALENDAR
