BEGIN:VCALENDAR
VERSION:2.0
PRODID:-//Squarespace Inc/Squarespace 6//v6//EN
BEGIN:VEVENT
UID:5e35ec6726acc86be0d0ed94@squarespace.com
DTSTAMP:20200201T214219Z
DTSTART:20200214T163000Z
DTEND:20200214T173000Z
SUMMARY:Equal Exchange Fair Trade Chocolate Demo
GEO:42.326283;-88.985712
LOCATION:Choices Natural Market\, 6718 Broadcast Parkway\, Loves Park\, IL\
 , 61111\, United States
END:VEVENT
END:VCALENDAR
