BEGIN:VCALENDAR
VERSION:2.0
PRODID:-//Squarespace Inc/Squarespace 6//v6//EN
BEGIN:VEVENT
UID:5e35e767e0e43424441b6874@squarespace.com
DTSTAMP:20200221T031605Z
DTSTART:20200216T180000Z
DTEND:20200216T190000Z
SUMMARY:Budget Friendly Organics: Tips to Stay on Budget and Eat Healthy
GEO:42.326283;-88.985712
LOCATION:Choices Natural Market\, 6718 Broadcast Parkway\, Loves Park\, IL\
 , 61111\, United States
END:VEVENT
END:VCALENDAR
