BEGIN:VCALENDAR
VERSION:2.0
PRODID:-//Squarespace Inc/Squarespace 6//v6//EN
BEGIN:VEVENT
UID:5e4f1f2751867c454bb6f3d8@squarespace.com
DTSTAMP:20200319T120957Z
DTSTART:20200325T213000Z
DTEND:20200325T223000Z
SUMMARY:Paleo\, Ketogenic and Mediterranean.&nbsp\;What is the Best Diet fo
 r Optimal Health?
GEO:42.326283;-88.985712
LOCATION:Choices Natural Market\, 6718 Broadcast Parkway\, Loves Park\, IL\
 , 61111\, United States
END:VEVENT
END:VCALENDAR
