BEGIN:VCALENDAR
VERSION:2.0
PRODID:-//Squarespace Inc/Squarespace 6//v6//EN
BEGIN:VEVENT
UID:5e56f5fda48d421ed1c44a54@squarespace.com
DTSTAMP:20200319T121156Z
DTSTART:20200329T173000Z
DTEND:20200329T183000Z
SUMMARY:Is There More to Weight Loss than Calories In - Calories Out?
GEO:42.326283;-88.985712
LOCATION:Choices Natural Market\, 6718 Broadcast Parkway\, Loves Park\, IL\
 , 61111\, United States
END:VEVENT
END:VCALENDAR
