BEGIN:VCALENDAR
VERSION:2.0
PRODID:-//Squarespace Inc/Squarespace 6//v6//EN
BEGIN:VEVENT
UID:5e4f0ae684599e70c0e22107@squarespace.com
DTSTAMP:20200220T224723Z
DTSTART:20200307T140000Z
DTEND:20200308T010000Z
SUMMARY:Sample Saturday
END:VEVENT
END:VCALENDAR
