BEGIN:VCALENDAR
VERSION:2.0
PRODID:-//Squarespace Inc/Squarespace 6//v6//EN
BEGIN:VEVENT
UID:5ec535bc40d9280fc8c09d60@squarespace.com
DTSTAMP:20200520T140154Z
DTSTART:20200525T130000Z
DTEND:20200525T220000Z
SUMMARY:Memorial Day - Choices is Closed.
END:VEVENT
END:VCALENDAR
