BEGIN:VCALENDAR
VERSION:2.0
PRODID:-//Squarespace Inc/Squarespace 6//v6//EN
BEGIN:VEVENT
UID:5ec1afe6cf4bbe0d08e7eb62@squarespace.com
DTSTAMP:20200520T135023Z
DTSTART:20200603T220000Z
DTEND:20200603T230000Z
SUMMARY:COVID19 - What's Next?
END:VEVENT
END:VCALENDAR
