BEGIN:VCALENDAR
VERSION:2.0
PRODID:-//Squarespace Inc/Squarespace 6//v6//EN
BEGIN:VEVENT
UID:5f1d9f25d0dcdd1a8ee3d271@squarespace.com
DTSTAMP:20200729T222120Z
DTSTART:20200816T130000Z
DTEND:20200821T220000Z
SUMMARY:15 Year Anniversary Event - Mercato Eat Fresh Sale!
GEO:42.326283;-88.985712
LOCATION:Choices Natural Market\, 6718 Broadcast Parkway\, Loves Park\, IL\
 , 61111\, United States
END:VEVENT
END:VCALENDAR
