BEGIN:VCALENDAR
VERSION:2.0
PRODID:-//Squarespace Inc/Squarespace 6//v6//EN
BEGIN:VEVENT
UID:5f15d84dc45cd778c8b76f3c@squarespace.com
DTSTAMP:20200729T173007Z
DTSTART:20200730T130000Z
DTEND:20200801T220000Z
SUMMARY:15 Year Anniversary Event - Be Healthy Sale 15% off all health and 
 beauty items
GEO:42.325739;-88.985335
LOCATION:Choices Natural Market\, 6718 Broadcast Parkway\, Loves Park\, IL\
 , 61111\, United States
END:VEVENT
END:VCALENDAR
