BEGIN:VCALENDAR
VERSION:2.0
PRODID:-//Squarespace Inc/Squarespace 6//v6//EN
BEGIN:VEVENT
UID:5f1d9c9a33dc5444791e886c@squarespace.com
DTSTAMP:20200729T221957Z
DTSTART:20200813T130000Z
DTEND:20200815T220000Z
SUMMARY:15 Year Anniversary Event - Eat Fresh Sale!
GEO:42.325739;-88.985335
LOCATION:Choices Natural Market\, 6718 Broadcast Parkway\, Loves Park\, IL\
 , 61111\, United States
END:VEVENT
END:VCALENDAR
