BEGIN:VCALENDAR
VERSION:2.0
PRODID:-//Squarespace Inc/Squarespace 6//v6//EN
BEGIN:VEVENT
UID:5f1da1f80f881948c78dd54d@squarespace.com
DTSTAMP:20200729T222305Z
DTSTART:20200826T130000Z
DTEND:20200826T230000Z
SUMMARY:Choices 15 Year Anniversary Grand Finale Event
GEO:42.326283;-88.985712
LOCATION:Choices Natural Market\, 6718 Broadcast Parkway\, Loves Park\, IL\
 , 61111\, United States
END:VEVENT
END:VCALENDAR
