BEGIN:VCALENDAR
VERSION:2.0
PRODID:-//Squarespace Inc/Squarespace 6//v6//EN
BEGIN:VEVENT
UID:5f1d99df7fbac53ab4014556@squarespace.com
DTSTAMP:20200729T221910Z
DTSTART:20200802T130000Z
DTEND:20200807T230000Z
SUMMARY:15 Year Anniversary Event - Mercato Be Healthy Sale 15% Off
GEO:42.325739;-88.985335
LOCATION:Choices Natural Market\, 6718 Broadcast Parkway\, Loves Park\, IL\
 , 61111\, United States
END:VEVENT
END:VCALENDAR
